BEGIN:VCALENDAR
VERSION:2.0
PRODID:-//Der Eichhof - ECPv6.15.20//NONSGML v1.0//EN
CALSCALE:GREGORIAN
METHOD:PUBLISH
X-ORIGINAL-URL:https://der-eichhof.de
X-WR-CALDESC:Veranstaltungen für Der Eichhof
REFRESH-INTERVAL;VALUE=DURATION:PT1H
X-Robots-Tag:noindex
X-PUBLISHED-TTL:PT1H
BEGIN:VTIMEZONE
TZID:Europe/Berlin
BEGIN:DAYLIGHT
TZOFFSETFROM:+0100
TZOFFSETTO:+0200
TZNAME:CEST
DTSTART:20240331T010000
END:DAYLIGHT
BEGIN:STANDARD
TZOFFSETFROM:+0200
TZOFFSETTO:+0100
TZNAME:CET
DTSTART:20241027T010000
END:STANDARD
BEGIN:DAYLIGHT
TZOFFSETFROM:+0100
TZOFFSETTO:+0200
TZNAME:CEST
DTSTART:20250330T010000
END:DAYLIGHT
BEGIN:STANDARD
TZOFFSETFROM:+0200
TZOFFSETTO:+0100
TZNAME:CET
DTSTART:20251026T010000
END:STANDARD
BEGIN:DAYLIGHT
TZOFFSETFROM:+0100
TZOFFSETTO:+0200
TZNAME:CEST
DTSTART:20260329T010000
END:DAYLIGHT
BEGIN:STANDARD
TZOFFSETFROM:+0200
TZOFFSETTO:+0100
TZNAME:CET
DTSTART:20261025T010000
END:STANDARD
BEGIN:DAYLIGHT
TZOFFSETFROM:+0100
TZOFFSETTO:+0200
TZNAME:CEST
DTSTART:20270328T010000
END:DAYLIGHT
BEGIN:STANDARD
TZOFFSETFROM:+0200
TZOFFSETTO:+0100
TZNAME:CET
DTSTART:20271031T010000
END:STANDARD
END:VTIMEZONE
BEGIN:VEVENT
DTSTART;TZID=Europe/Berlin:20260423T130000
DTEND;TZID=Europe/Berlin:20260423T180000
DTSTAMP:20260424T162819
CREATED:20260202T094253Z
LAST-MODIFIED:20260202T094253Z
UID:6278-1776949200-1776967200@der-eichhof.de
SUMMARY:Eichhof Café geöffnet
DESCRIPTION:Kaffee und wechselnde Kuchen\n\n\nJeden Donnerstag von 13:00 – 18:00 Uhr\nverwöhnen wir Sie mit Kaffee- und Teespezialitäten sowie einem wöchentlich wechselnden Kuchenangebot.\n 
URL:https://der-eichhof.de/event/eichhof-cafe-geoeffnet-2026-04-23/
LOCATION:Eichhof Café\, Im Seesengrund 16\, Ober-Ramstadt\, 64372\, Germany
CATEGORIES:Gastronomie
ATTACH;FMTTYPE=image/jpeg:https://der-eichhof.de/wp-content/uploads/2019/07/content-kuchen.jpg
END:VEVENT
BEGIN:VEVENT
DTSTART;TZID=Europe/Berlin:20260416T130000
DTEND;TZID=Europe/Berlin:20260416T180000
DTSTAMP:20260424T162819
CREATED:20260202T094154Z
LAST-MODIFIED:20260202T094154Z
UID:6276-1776344400-1776362400@der-eichhof.de
SUMMARY:Eichhof Café geöffnet
DESCRIPTION:Kaffee und wechselnde Kuchen\n\n\nJeden Donnerstag von 13:00 – 18:00 Uhr\nverwöhnen wir Sie mit Kaffee- und Teespezialitäten sowie einem wöchentlich wechselnden Kuchenangebot.\n 
URL:https://der-eichhof.de/event/eichhof-cafe-geoeffnet-2026-04-16/
LOCATION:Eichhof Café\, Im Seesengrund 16\, Ober-Ramstadt\, 64372\, Germany
CATEGORIES:Gastronomie
ATTACH;FMTTYPE=image/jpeg:https://der-eichhof.de/wp-content/uploads/2019/07/content-kuchen.jpg
END:VEVENT
BEGIN:VEVENT
DTSTART;TZID=Europe/Berlin:20260409T130000
DTEND;TZID=Europe/Berlin:20260409T180000
DTSTAMP:20260424T162819
CREATED:20260202T094041Z
LAST-MODIFIED:20260202T094041Z
UID:6274-1775739600-1775757600@der-eichhof.de
SUMMARY:Eichhof Café geöffnet
DESCRIPTION:Kaffee und wechselnde Kuchen\n\n\nJeden Donnerstag von 13:00 – 18:00 Uhr\nverwöhnen wir Sie mit Kaffee- und Teespezialitäten sowie einem wöchentlich wechselnden Kuchenangebot.\n 
URL:https://der-eichhof.de/event/eichhof-cafe-geoeffnet-2026-04-09/
LOCATION:Eichhof Café\, Im Seesengrund 16\, Ober-Ramstadt\, 64372\, Germany
CATEGORIES:Gastronomie
ATTACH;FMTTYPE=image/jpeg:https://der-eichhof.de/wp-content/uploads/2019/07/content-kuchen.jpg
END:VEVENT
BEGIN:VEVENT
DTSTART;TZID=Europe/Berlin:20260402T130000
DTEND;TZID=Europe/Berlin:20260402T180000
DTSTAMP:20260424T162819
CREATED:20260202T093924Z
LAST-MODIFIED:20260202T093924Z
UID:6272-1775134800-1775152800@der-eichhof.de
SUMMARY:Eichhof Café geöffnet
DESCRIPTION:Kaffee und wechselnde Kuchen\n\n\nJeden Donnerstag von 13:00 – 18:00 Uhr\nverwöhnen wir Sie mit Kaffee- und Teespezialitäten sowie einem wöchentlich wechselnden Kuchenangebot.\n 
URL:https://der-eichhof.de/event/eichhof-cafe-geoeffnet-2026-04-02/
LOCATION:Eichhof Café\, Im Seesengrund 16\, Ober-Ramstadt\, 64372\, Germany
CATEGORIES:Gastronomie
ATTACH;FMTTYPE=image/jpeg:https://der-eichhof.de/wp-content/uploads/2019/07/content-kuchen.jpg
END:VEVENT
BEGIN:VEVENT
DTSTART;TZID=Europe/Berlin:20260326T130000
DTEND;TZID=Europe/Berlin:20260326T180000
DTSTAMP:20260424T162819
CREATED:20260202T091749Z
LAST-MODIFIED:20260202T091749Z
UID:6239-1774530000-1774548000@der-eichhof.de
SUMMARY:Eichhof Café geöffnet
DESCRIPTION:Kaffee und wechselnde Kuchen\n\n\nJeden Donnerstag von 13:00 – 18:00 Uhr\nverwöhnen wir Sie mit Kaffee- und Teespezialitäten sowie einem wöchentlich wechselnden Kuchenangebot.\n 
URL:https://der-eichhof.de/event/eichhof-cafe-geoeffnet-2026-03-26/
LOCATION:Eichhof Café\, Im Seesengrund 16\, Ober-Ramstadt\, 64372\, Germany
CATEGORIES:Gastronomie
ATTACH;FMTTYPE=image/jpeg:https://der-eichhof.de/wp-content/uploads/2019/07/content-kuchen.jpg
END:VEVENT
BEGIN:VEVENT
DTSTART;TZID=Europe/Berlin:20260319T130000
DTEND;TZID=Europe/Berlin:20260319T180000
DTSTAMP:20260424T162819
CREATED:20260114T075550Z
LAST-MODIFIED:20260114T075550Z
UID:6237-1773925200-1773943200@der-eichhof.de
SUMMARY:Eichhof Café geöffnet
DESCRIPTION:Kaffee und wechselnde Kuchen\n\n\nJeden Donnerstag von 13:00 – 18:00 Uhr\nverwöhnen wir Sie mit Kaffee- und Teespezialitäten sowie einem wöchentlich wechselnden Kuchenangebot.\n 
URL:https://der-eichhof.de/event/eichhof-cafe-geoeffnet-2026-03-19/
LOCATION:Eichhof Café\, Im Seesengrund 16\, Ober-Ramstadt\, 64372\, Germany
CATEGORIES:Gastronomie
ATTACH;FMTTYPE=image/jpeg:https://der-eichhof.de/wp-content/uploads/2019/07/content-kuchen.jpg
END:VEVENT
BEGIN:VEVENT
DTSTART;TZID=Europe/Berlin:20260312T130000
DTEND;TZID=Europe/Berlin:20260312T180000
DTSTAMP:20260424T162819
CREATED:20260114T075410Z
LAST-MODIFIED:20260114T075410Z
UID:6235-1773320400-1773338400@der-eichhof.de
SUMMARY:Eichhof Café geöffnet
DESCRIPTION:Kaffee und wechselnde Kuchen\n\n\nJeden Donnerstag von 13:00 – 18:00 Uhr\nverwöhnen wir Sie mit Kaffee- und Teespezialitäten sowie einem wöchentlich wechselnden Kuchenangebot.\n 
URL:https://der-eichhof.de/event/eichhof-cafe-geoeffnet-2026-03-12/
LOCATION:Eichhof Café\, Im Seesengrund 16\, Ober-Ramstadt\, 64372\, Germany
CATEGORIES:Gastronomie
ATTACH;FMTTYPE=image/jpeg:https://der-eichhof.de/wp-content/uploads/2019/07/content-kuchen.jpg
END:VEVENT
BEGIN:VEVENT
DTSTART;TZID=Europe/Berlin:20260305T130000
DTEND;TZID=Europe/Berlin:20260305T180000
DTSTAMP:20260424T162819
CREATED:20260114T075139Z
LAST-MODIFIED:20260114T075139Z
UID:6233-1772715600-1772733600@der-eichhof.de
SUMMARY:Eichhof Café geöffnet
DESCRIPTION:Kaffee und wechselnde Kuchen\n\n\nJeden Donnerstag von 13:00 – 18:00 Uhr\nverwöhnen wir Sie mit Kaffee- und Teespezialitäten sowie einem wöchentlich wechselnden Kuchenangebot.\n 
URL:https://der-eichhof.de/event/eichhof-cafe-geoeffnet-2026-03-05/
LOCATION:Eichhof Café\, Im Seesengrund 16\, Ober-Ramstadt\, 64372\, Germany
CATEGORIES:Gastronomie
ATTACH;FMTTYPE=image/jpeg:https://der-eichhof.de/wp-content/uploads/2019/07/content-kuchen.jpg
END:VEVENT
BEGIN:VEVENT
DTSTART;TZID=Europe/Berlin:20260226T130000
DTEND;TZID=Europe/Berlin:20260226T180000
DTSTAMP:20260424T162819
CREATED:20260114T075024Z
LAST-MODIFIED:20260114T075024Z
UID:6231-1772110800-1772128800@der-eichhof.de
SUMMARY:Eichhof Café geöffnet
DESCRIPTION:Kaffee und wechselnde Kuchen\n\n\nJeden Donnerstag von 13:00 – 18:00 Uhr\nverwöhnen wir Sie mit Kaffee- und Teespezialitäten sowie einem wöchentlich wechselnden Kuchenangebot.\n 
URL:https://der-eichhof.de/event/eichhof-cafe-geoeffnet-2026-02-26/
LOCATION:Eichhof Café\, Im Seesengrund 16\, Ober-Ramstadt\, 64372\, Germany
CATEGORIES:Gastronomie
ATTACH;FMTTYPE=image/jpeg:https://der-eichhof.de/wp-content/uploads/2019/07/content-kuchen.jpg
END:VEVENT
BEGIN:VEVENT
DTSTART;TZID=Europe/Berlin:20260219T130000
DTEND;TZID=Europe/Berlin:20260219T180000
DTSTAMP:20260424T162819
CREATED:20260114T074813Z
LAST-MODIFIED:20260114T074813Z
UID:6229-1771506000-1771524000@der-eichhof.de
SUMMARY:Eichhof Café geöffnet
DESCRIPTION:Kaffee und wechselnde Kuchen\n\n\nJeden Donnerstag von 13:00 – 18:00 Uhr\nverwöhnen wir Sie mit Kaffee- und Teespezialitäten sowie einem wöchentlich wechselnden Kuchenangebot.\n 
URL:https://der-eichhof.de/event/eichhof-cafe-geoeffnet-2026-02-19/
LOCATION:Eichhof Café\, Im Seesengrund 16\, Ober-Ramstadt\, 64372\, Germany
CATEGORIES:Gastronomie
ATTACH;FMTTYPE=image/jpeg:https://der-eichhof.de/wp-content/uploads/2019/07/content-kuchen.jpg
END:VEVENT
BEGIN:VEVENT
DTSTART;TZID=Europe/Berlin:20260217T140000
DTEND;TZID=Europe/Berlin:20260217T173000
DTSTAMP:20260424T162819
CREATED:20260209T110604Z
LAST-MODIFIED:20260209T110604Z
UID:6302-1771336800-1771349400@der-eichhof.de
SUMMARY:Kräppelnachmittag im Eichhof-Café
DESCRIPTION:Kräppelkaffee auf dem Eichhof\nDer gemütliche Faschingsdienstag\, ganz ohne Trubel \nFür Fasching haben wir uns auch dieses Jahr wieder etwas Besonderes für Sie ausgedacht: Statt lauter Musik und bunter Verkleidung laden wir Sie herzlich zu einem entspannten Kräppel-Nachmittag in unseren Eventraum ein. \nFreuen Sie sich auf ofenfrische Kräppel\, dazu aromatische Kaffee- und Teespezialitäten. Ideal zum Genießen und Abschalten. Für alle\, die es lieber herzhaft mögen\, stehen Mettbrötchen mit Zwiebeln bereit. Und natürlich gibt es auch eine Auswahl an Softgetränken. \nWann: Dienstag\, 17. Februar 2026Uhrzeit: 14:00 bis 17:30 UhrWo: Auf dem Eichhof \nDer Hofladen ist an diesem Tag von 13:00 bis 18:00 Uhr für Sie geöffnet\, ideal\, um Ihren Vorrat an regionalen Spezialitäten aufzufüllen. \nKommen Sie vorbei\, genießen Sie den Nachmittag in netter Gesellschaft – ganz entspannt und ohne Faschingstrubel. \nWir freuen uns auf Sie!
URL:https://der-eichhof.de/event/kraeppelnachmittag-im-hofcafe-2026-02-17/
LOCATION:Eichhof Café\, Im Seesengrund 16\, Ober-Ramstadt\, 64372\, Germany
CATEGORIES:Events,Gastronomie
ATTACH;FMTTYPE=image/png:https://der-eichhof.de/wp-content/uploads/2023/02/Contentbilder-kreppel.png
END:VEVENT
BEGIN:VEVENT
DTSTART;TZID=Europe/Berlin:20260212T130000
DTEND;TZID=Europe/Berlin:20260212T180000
DTSTAMP:20260424T162819
CREATED:20260114T074708Z
LAST-MODIFIED:20260114T074708Z
UID:6227-1770901200-1770919200@der-eichhof.de
SUMMARY:Eichhof Café geöffnet
DESCRIPTION:Kaffee und wechselnde Kuchen\n\n\nJeden Donnerstag von 13:00 – 18:00 Uhr\nverwöhnen wir Sie mit Kaffee- und Teespezialitäten sowie einem wöchentlich wechselnden Kuchenangebot.\n 
URL:https://der-eichhof.de/event/eichhof-cafe-geoeffnet-2026-02-12/
LOCATION:Eichhof Café\, Im Seesengrund 16\, Ober-Ramstadt\, 64372\, Germany
CATEGORIES:Gastronomie
ATTACH;FMTTYPE=image/jpeg:https://der-eichhof.de/wp-content/uploads/2019/07/content-kuchen.jpg
END:VEVENT
BEGIN:VEVENT
DTSTART;TZID=Europe/Berlin:20260205T130000
DTEND;TZID=Europe/Berlin:20260205T180000
DTSTAMP:20260424T162819
CREATED:20260114T074554Z
LAST-MODIFIED:20260114T074554Z
UID:6225-1770296400-1770314400@der-eichhof.de
SUMMARY:Eichhof Café geöffnet
DESCRIPTION:Kaffee und wechselnde Kuchen\n\n\nJeden Donnerstag von 13:00 – 18:00 Uhr\nverwöhnen wir Sie mit Kaffee- und Teespezialitäten sowie einem wöchentlich wechselnden Kuchenangebot.\n 
URL:https://der-eichhof.de/event/eichhof-cafe-geoeffnet-2026-02-05/
LOCATION:Eichhof Café\, Im Seesengrund 16\, Ober-Ramstadt\, 64372\, Germany
CATEGORIES:Gastronomie
ATTACH;FMTTYPE=image/jpeg:https://der-eichhof.de/wp-content/uploads/2019/07/content-kuchen.jpg
END:VEVENT
BEGIN:VEVENT
DTSTART;TZID=Europe/Berlin:20260129T130000
DTEND;TZID=Europe/Berlin:20260129T180000
DTSTAMP:20260424T162819
CREATED:20260114T074441Z
LAST-MODIFIED:20260114T074441Z
UID:6223-1769691600-1769709600@der-eichhof.de
SUMMARY:Eichhof Café geöffnet
DESCRIPTION:Kaffee und wechselnde Kuchen\n\n\nJeden Donnerstag von 13:00 – 18:00 Uhr\nverwöhnen wir Sie mit Kaffee- und Teespezialitäten sowie einem wöchentlich wechselnden Kuchenangebot.\n 
URL:https://der-eichhof.de/event/eichhof-cafe-geoeffnet-2026-01-29/
LOCATION:Eichhof Café\, Im Seesengrund 16\, Ober-Ramstadt\, 64372\, Germany
CATEGORIES:Gastronomie
ATTACH;FMTTYPE=image/jpeg:https://der-eichhof.de/wp-content/uploads/2019/07/content-kuchen.jpg
END:VEVENT
BEGIN:VEVENT
DTSTART;TZID=Europe/Berlin:20260122T130000
DTEND;TZID=Europe/Berlin:20260122T180000
DTSTAMP:20260424T162819
CREATED:20260114T074343Z
LAST-MODIFIED:20260114T074343Z
UID:6221-1769086800-1769104800@der-eichhof.de
SUMMARY:Eichhof Café geöffnet
DESCRIPTION:Kaffee und wechselnde Kuchen\n\n\nJeden Donnerstag von 13:00 – 18:00 Uhr\nverwöhnen wir Sie mit Kaffee- und Teespezialitäten sowie einem wöchentlich wechselnden Kuchenangebot.\n 
URL:https://der-eichhof.de/event/eichhof-cafe-geoeffnet-2026-01-22/
LOCATION:Eichhof Café\, Im Seesengrund 16\, Ober-Ramstadt\, 64372\, Germany
CATEGORIES:Gastronomie
ATTACH;FMTTYPE=image/jpeg:https://der-eichhof.de/wp-content/uploads/2019/07/content-kuchen.jpg
END:VEVENT
BEGIN:VEVENT
DTSTART;TZID=Europe/Berlin:20260115T130000
DTEND;TZID=Europe/Berlin:20260115T180000
DTSTAMP:20260424T162819
CREATED:20260114T074240Z
LAST-MODIFIED:20260114T074240Z
UID:6219-1768482000-1768500000@der-eichhof.de
SUMMARY:Eichhof Café geöffnet
DESCRIPTION:Kaffee und wechselnde Kuchen\n\n\nJeden Donnerstag von 13:00 – 18:00 Uhr\nverwöhnen wir Sie mit Kaffee- und Teespezialitäten sowie einem wöchentlich wechselnden Kuchenangebot.\n 
URL:https://der-eichhof.de/event/eichhof-cafe-geoeffnet-2026-01-15/
LOCATION:Eichhof Café\, Im Seesengrund 16\, Ober-Ramstadt\, 64372\, Germany
CATEGORIES:Gastronomie
ATTACH;FMTTYPE=image/jpeg:https://der-eichhof.de/wp-content/uploads/2019/07/content-kuchen.jpg
END:VEVENT
BEGIN:VEVENT
DTSTART;TZID=Europe/Berlin:20251218T130000
DTEND;TZID=Europe/Berlin:20251218T180000
DTSTAMP:20260424T162819
CREATED:20250924T114526Z
LAST-MODIFIED:20251117T074931Z
UID:5939-1766062800-1766080800@der-eichhof.de
SUMMARY:Eichhof Café geöffnet
DESCRIPTION:Kaffee und wechselnde Kuchen\n\n\nJeden Donnerstag von 13:00 – 18:00 Uhr\nverwöhnen wir Sie mit Kaffee- und Teespezialitäten sowie einem wöchentlich wechselnden Kuchenangebot.\n 
URL:https://der-eichhof.de/event/eichhof-cafe-geoeffnet-2025-12-18/
LOCATION:Eichhof Café\, Im Seesengrund 16\, Ober-Ramstadt\, 64372\, Germany
CATEGORIES:Gastronomie
ATTACH;FMTTYPE=image/jpeg:https://der-eichhof.de/wp-content/uploads/2019/07/content-kuchen.jpg
END:VEVENT
BEGIN:VEVENT
DTSTART;TZID=Europe/Berlin:20251211T130000
DTEND;TZID=Europe/Berlin:20251211T180000
DTSTAMP:20260424T162819
CREATED:20250924T114430Z
LAST-MODIFIED:20251117T074947Z
UID:5937-1765458000-1765476000@der-eichhof.de
SUMMARY:Eichhof Café geöffnet
DESCRIPTION:Kaffee und wechselnde Kuchen\n\n\nJeden Donnerstag von 13:00 – 18:00 Uhr\nverwöhnen wir Sie mit Kaffee- und Teespezialitäten sowie einem wöchentlich wechselnden Kuchenangebot.\n 
URL:https://der-eichhof.de/event/eichhof-cafe-geoeffnet-2025-12-11/
LOCATION:Eichhof Café\, Im Seesengrund 16\, Ober-Ramstadt\, 64372\, Germany
CATEGORIES:Gastronomie
ATTACH;FMTTYPE=image/jpeg:https://der-eichhof.de/wp-content/uploads/2019/07/content-kuchen.jpg
END:VEVENT
BEGIN:VEVENT
DTSTART;TZID=Europe/Berlin:20251127T130000
DTEND;TZID=Europe/Berlin:20251127T180000
DTSTAMP:20260424T162819
CREATED:20250924T114319Z
LAST-MODIFIED:20251117T075005Z
UID:5935-1764248400-1764266400@der-eichhof.de
SUMMARY:Eichhof Café geöffnet
DESCRIPTION:Kaffee und wechselnde Kuchen\n\n\nJeden Donnerstag von 13:00 – 18:00 Uhr\nverwöhnen wir Sie mit Kaffee- und Teespezialitäten sowie einem wöchentlich wechselnden Kuchenangebot.\n 
URL:https://der-eichhof.de/event/eichhof-cafe-geoeffnet-2025-11-27/
LOCATION:Eichhof Café\, Im Seesengrund 16\, Ober-Ramstadt\, 64372\, Germany
CATEGORIES:Gastronomie
ATTACH;FMTTYPE=image/jpeg:https://der-eichhof.de/wp-content/uploads/2019/07/content-kuchen.jpg
END:VEVENT
BEGIN:VEVENT
DTSTART;TZID=Europe/Berlin:20251120T130000
DTEND;TZID=Europe/Berlin:20251120T180000
DTSTAMP:20260424T162819
CREATED:20250924T114218Z
LAST-MODIFIED:20251117T075024Z
UID:5933-1763643600-1763661600@der-eichhof.de
SUMMARY:Eichhof Café geöffnet
DESCRIPTION:Kaffee und wechselnde Kuchen\n\n\nJeden Donnerstag von 13:00 – 18:00 Uhr\nverwöhnen wir Sie mit Kaffee- und Teespezialitäten sowie einem wöchentlich wechselnden Kuchenangebot.\n 
URL:https://der-eichhof.de/event/eichhof-cafe-geoeffnet-2025-11-20/
LOCATION:Eichhof Café\, Im Seesengrund 16\, Ober-Ramstadt\, 64372\, Germany
CATEGORIES:Gastronomie
ATTACH;FMTTYPE=image/jpeg:https://der-eichhof.de/wp-content/uploads/2019/07/content-kuchen.jpg
END:VEVENT
BEGIN:VEVENT
DTSTART;TZID=Europe/Berlin:20251113T130000
DTEND;TZID=Europe/Berlin:20251113T180000
DTSTAMP:20260424T162819
CREATED:20250924T114016Z
LAST-MODIFIED:20251105T082727Z
UID:5931-1763038800-1763056800@der-eichhof.de
SUMMARY:Letztes Eichhof Café vor der Winterpause
DESCRIPTION:Kaffee und wechselnde Kuchen\n\n\nJeden Donnerstag von 13:00 – 18:00 Uhr\nverwöhnen wir Sie mit Kaffee- und Teespezialitäten sowie einem wöchentlich wechselnden Kuchenangebot.\n 
URL:https://der-eichhof.de/event/eichhof-cafe-geoeffnet-2025-11-13/
LOCATION:Eichhof Café\, Im Seesengrund 16\, Ober-Ramstadt\, 64372\, Germany
CATEGORIES:Gastronomie
ATTACH;FMTTYPE=image/jpeg:https://der-eichhof.de/wp-content/uploads/2019/07/content-kuchen.jpg
END:VEVENT
BEGIN:VEVENT
DTSTART;TZID=Europe/Berlin:20251106T130000
DTEND;TZID=Europe/Berlin:20251106T180000
DTSTAMP:20260424T162819
CREATED:20250924T113914Z
LAST-MODIFIED:20250924T113914Z
UID:5929-1762434000-1762452000@der-eichhof.de
SUMMARY:Eichhof Café geöffnet
DESCRIPTION:Kaffee und wechselnde Kuchen\n\n\nJeden Donnerstag von 13:00 – 18:00 Uhr\nverwöhnen wir Sie mit Kaffee- und Teespezialitäten sowie einem wöchentlich wechselnden Kuchenangebot.\n 
URL:https://der-eichhof.de/event/eichhof-cafe-geoeffnet-2025-11-06/
LOCATION:Eichhof Café\, Im Seesengrund 16\, Ober-Ramstadt\, 64372\, Germany
CATEGORIES:Gastronomie
ATTACH;FMTTYPE=image/jpeg:https://der-eichhof.de/wp-content/uploads/2019/07/content-kuchen.jpg
END:VEVENT
BEGIN:VEVENT
DTSTART;TZID=Europe/Berlin:20251104T120000
DTEND;TZID=Europe/Berlin:20251104T140000
DTSTAMP:20260424T162819
CREATED:20240423T095802Z
LAST-MODIFIED:20251027T103631Z
UID:4791-1762257600-1762264800@der-eichhof.de
SUMMARY:Schlachtfest-Essen auf dem Eichhof
DESCRIPTION:Am 4. November findet endlich wieder unser beliebtes Schlachtfest-Essen statt!\n\n\nWichtig:Die Teilnahme ist nur mit Voranmeldung bis zum 2. November möglich.Bitte melden Sie sich per E-Mail an: silvia.seibert-christ@daw.de\n\n\n\n\n\nUnser Schlachtfest-Essen vom Eichhof-Duroc-Schwein servieren wir Ihnen inklusive einer leckeren Vorspeise. Sie können es vor Ort oder als To-Go-Gericht genießen. \n\n\nDas Menü: \n\nMetzelsuppe nach Traditionsrezept\nJe eine Blut- und Leberwurst\, ein Stück Wellfleisch mit Schweinepfeffer\, dazu hausgemachtes Kartoffelpüree und Sauerkraut\n\nUnser Preis: 19\,50 € pro Person \nSie möchten künftig keine Infos mehr über diesen und weitere Termine verpassen? Dann abonnieren Sie unseren Newsletter! \nAuf der Veranstaltung erstellen wir Fotos und Videos\, die wir für unsere Öffentlichkeitsarbeit und zur Dokumentation nutzen. Bitte lassen Sie uns wissen\, falls es Gründe gibt\, die gegen die Verwendung sprechen.
URL:https://der-eichhof.de/event/schllachtfestessen-2025-11-04/
LOCATION:Eichhof Café\, Im Seesengrund 16\, Ober-Ramstadt\, 64372\, Germany
CATEGORIES:Events,Gastronomie
ATTACH;FMTTYPE=image/png:https://der-eichhof.de/wp-content/uploads/2024/02/Contentbilder-schlachtfest-essen.png
END:VEVENT
BEGIN:VEVENT
DTSTART;TZID=Europe/Berlin:20251030T130000
DTEND;TZID=Europe/Berlin:20251030T180000
DTSTAMP:20260424T162819
CREATED:20250820T120442Z
LAST-MODIFIED:20250820T120442Z
UID:5870-1761829200-1761847200@der-eichhof.de
SUMMARY:Eichhof Café geöffnet
DESCRIPTION:Kaffee und wechselnde Kuchen\n\n\nJeden Donnerstag von 13:00 – 18:00 Uhr\nverwöhnen wir Sie mit Kaffee- und Teespezialitäten sowie einem wöchentlich wechselnden Kuchenangebot.\nGenießen Sie diese Köstlichkeiten im Hofladen oder bei schönem Wetter im Außenbereich bei uns auf der Eichhof-Terrasse unter den Sonnenschirmen.
URL:https://der-eichhof.de/event/eichhof-cafe-geoeffnet-2025-10-30/
LOCATION:Eichhof Café\, Im Seesengrund 16\, Ober-Ramstadt\, 64372\, Germany
CATEGORIES:Gastronomie
ATTACH;FMTTYPE=image/jpeg:https://der-eichhof.de/wp-content/uploads/2019/07/content-kuchen.jpg
END:VEVENT
BEGIN:VEVENT
DTSTART;TZID=Europe/Berlin:20251028T170000
DTEND;TZID=Europe/Berlin:20251028T190000
DTSTAMP:20260424T162819
CREATED:20250924T074443Z
LAST-MODIFIED:20251008T061405Z
UID:5912-1761670800-1761678000@der-eichhof.de
SUMMARY:Owwerrämschder Eichhofwiesen-Essen
DESCRIPTION:Auch bei uns darf’s im Oktober ein bisschen zünftig zugehen – ganz nach dem Motto: Bayern lässt grüßen\, aber auf Owwerrämschder Art! Genießen Sie einen stimmungsvollen Nachmittag mit traditionellen Schmankerln und geselligem Miteinander auf dem Eichhof. \nDatum: Dienstag\, 28. Oktober 2025\nUhrzeit: 17 bis 19 UhrOrt: Eichhof-Hofladen \nWas erwartet Sie?Ein herzhaftes Tellergericht mit Weisswurst\, Ofenschinken\, Wurstsalat\, frischem Brot und Brezen – liebevoll zubereitet und in gemütlicher Oktoberfest-Atmosphäre serviert. Preis pro Portion: 16\,00 € \nDer Hofladen ist an diesem Tag natürlich bis 19 Uhr für Ihren Einkauf geöffnet. \nWichtig:Die Teilnahme ist nur mit Voranmeldung möglich.Bitte melden Sie sich per E-Mail an: silvia.seibert-christ@daw.de \nWir freuen uns auf einen geselligen Nachmittag mit Ihnen auf dem Eichhof! \nAuf der Veranstaltung erstellen wir Fotos und Videos\, die wir für unsere Öffentlichkeitsarbeit und zur Dokumentation nutzen. Bitte lassen Sie uns wissen\, falls es Gründe gibt\, die gegen die Verwendung sprechen.
URL:https://der-eichhof.de/event/owwerraemschder-eichhofwiesen-essen-2025-10-28/
LOCATION:Eichhof Café\, Im Seesengrund 16\, Ober-Ramstadt\, 64372\, Germany
CATEGORIES:Events,Gastronomie
ATTACH;FMTTYPE=image/jpeg:https://der-eichhof.de/wp-content/uploads/2025/09/Contentbilder-weisswurst-brezel.jpg
END:VEVENT
BEGIN:VEVENT
DTSTART;TZID=Europe/Berlin:20251023T130000
DTEND;TZID=Europe/Berlin:20251023T180000
DTSTAMP:20260424T162819
CREATED:20250820T120407Z
LAST-MODIFIED:20250820T120407Z
UID:5869-1761224400-1761242400@der-eichhof.de
SUMMARY:Eichhof Café geöffnet
DESCRIPTION:Kaffee und wechselnde Kuchen\n\n\nJeden Donnerstag von 13:00 – 18:00 Uhr\nverwöhnen wir Sie mit Kaffee- und Teespezialitäten sowie einem wöchentlich wechselnden Kuchenangebot.\nGenießen Sie diese Köstlichkeiten im Hofladen oder bei schönem Wetter im Außenbereich bei uns auf der Eichhof-Terrasse unter den Sonnenschirmen.
URL:https://der-eichhof.de/event/eichhof-cafe-geoeffnet-2025-10-23/
LOCATION:Eichhof Café\, Im Seesengrund 16\, Ober-Ramstadt\, 64372\, Germany
CATEGORIES:Gastronomie
ATTACH;FMTTYPE=image/jpeg:https://der-eichhof.de/wp-content/uploads/2019/07/content-kuchen.jpg
END:VEVENT
BEGIN:VEVENT
DTSTART;TZID=Europe/Berlin:20251016T130000
DTEND;TZID=Europe/Berlin:20251016T180000
DTSTAMP:20260424T162819
CREATED:20250820T114613Z
LAST-MODIFIED:20250820T115441Z
UID:5866-1760619600-1760637600@der-eichhof.de
SUMMARY:Eichhof Café geöffnet
DESCRIPTION:Kaffee und wechselnde Kuchen\n\n\nJeden Donnerstag von 13:00 – 18:00 Uhr\nverwöhnen wir Sie mit Kaffee- und Teespezialitäten sowie einem wöchentlich wechselnden Kuchenangebot.\nGenießen Sie diese Köstlichkeiten im Hofladen oder bei schönem Wetter im Außenbereich bei uns auf der Eichhof-Terrasse unter den Sonnenschirmen.
URL:https://der-eichhof.de/event/eichhof-cafe-geoeffnet-2025-10-16/
LOCATION:Eichhof Café\, Im Seesengrund 16\, Ober-Ramstadt\, 64372\, Germany
CATEGORIES:Gastronomie
ATTACH;FMTTYPE=image/jpeg:https://der-eichhof.de/wp-content/uploads/2019/07/content-kuchen.jpg
END:VEVENT
BEGIN:VEVENT
DTSTART;TZID=Europe/Berlin:20251009T130000
DTEND;TZID=Europe/Berlin:20251009T180000
DTSTAMP:20260424T162819
CREATED:20250820T114517Z
LAST-MODIFIED:20251006T062303Z
UID:5865-1760014800-1760032800@der-eichhof.de
SUMMARY:Eichhof Café mit Zwiebelkuchen und Federweißer
DESCRIPTION:Am Donnerstag\, 9. Oktober erwartet Sie im Eichhof-Café ein herbstliches Highlight:Wir servieren frischen Zwiebelkuchen und Federweißer vom Weingut Edling – dazu wie immer unsere Kaffee- und Teespezialitäten sowie ein wechselndes Kuchenangebot. \nWenn das Wetter es zulässt\, öffnen wir noch einmal unsere Sonnenterrasse für Sie.Ansonsten genießen Sie die Köstlichkeiten in unserem gemütlichen Eventraum. \nKommen Sie vorbei und lassen Sie sich in herbstlicher Atmosphäre verwöhnen!
URL:https://der-eichhof.de/event/eichhof-cafe-geoeffnet-2025-10-09/
LOCATION:Eichhof Café\, Im Seesengrund 16\, Ober-Ramstadt\, 64372\, Germany
CATEGORIES:Gastronomie
ATTACH;FMTTYPE=image/png:https://der-eichhof.de/wp-content/uploads/2024/09/Contentbilder-Zwiebelkuchen.png
END:VEVENT
BEGIN:VEVENT
DTSTART;TZID=Europe/Berlin:20251002T130000
DTEND;TZID=Europe/Berlin:20251002T180000
DTSTAMP:20260424T162819
CREATED:20250820T114356Z
LAST-MODIFIED:20250820T114356Z
UID:5863-1759410000-1759428000@der-eichhof.de
SUMMARY:Eichhof Café geöffnet
DESCRIPTION:Kaffee und wechselnde Kuchen\n\n\nJeden Donnerstag von 13:00 – 18:00 Uhr\nverwöhnen wir Sie mit Kaffee- und Teespezialitäten sowie einem wöchentlich wechselnden Kuchenangebot.\nGenießen Sie diese Köstlichkeiten im Hofladen oder bei schönem Wetter im Außenbereich bei uns auf der Eichhof-Terrasse unter den Sonnenschirmen.
URL:https://der-eichhof.de/event/eichhof-cafe-geoeffnet-2025-10-02/
LOCATION:Eichhof Café\, Im Seesengrund 16\, Ober-Ramstadt\, 64372\, Germany
CATEGORIES:Gastronomie
ATTACH;FMTTYPE=image/jpeg:https://der-eichhof.de/wp-content/uploads/2019/07/content-kuchen.jpg
END:VEVENT
BEGIN:VEVENT
DTSTART;TZID=Europe/Berlin:20250927T110000
DTEND;TZID=Europe/Berlin:20250927T160000
DTSTAMP:20260424T162819
CREATED:20250908T065425Z
LAST-MODIFIED:20250908T065450Z
UID:5904-1758970800-1758988800@der-eichhof.de
SUMMARY:Kelterfest auf dem Eichhof
DESCRIPTION:Der Herbst zeigt sich von seiner schönsten Seite – und wir feiern mit Ihnen ein traditionelles Kelterfest auf dem Eichhof! Frisch gepresster Apfelmost\, herzhafte Köstlichkeiten und ein herbstliches Hofambiente machen diesen Tag zu einem besonderen Erlebnis für die ganze Familie. \nDatum: Samstag\, 27. September 2025\nUhrzeit: 11 bis 16 UhrOrt: Eichhof-Hofladen (Der Hofladen ist an diesem Tag von 9.30 bis 16 Uhr geöffnet) \nWas erwartet Sie?\nFrisch gepresster Apfelmost:Vor Ort keltern wir Apfelsaft aus Äpfeln von unseren eigenen Streuobstwiesen. Der Most kann direkt verkostet werden. Wenn Sie möchten\, bringen Sie gerne eigene Behälter zum Abfüllen mit – alternativ bieten wir passende Gefäße zum Verkauf an. \nHerbstliche Spezialitäten:Freuen Sie sich auf ofenfrischen Zwiebelkuchen mit Federweißer\, warme Rindswurst im Brötchen\, Apfelkuchen vom Blech sowie Kaffee und Softgetränke – ideal für einen genussvollen Nachmittag auf dem Hof. \nTierischer Besuch:Wenn alles klappt\, schauen im Laufe des Tages auch unsere Esel mit ihrer Trainerin vorbei und drehen eine kleine Runde über das Gelände – ein besonderes Erlebnis für unsere kleinen Gäste. \nWir freuen uns auf einen stimmungsvollen Herbsttag mit Ihnen auf dem Eichhof! \nAuf der Veranstaltung erstellen wir Fotos und Videos\, die wir für unsere Öffentlichkeitsarbeit und zur Dokumentation nutzen. Bitte lassen Sie uns wissen\, falls es Gründe gibt\, die gegen die Verwendung sprechen.
URL:https://der-eichhof.de/event/kelterfest-2025-09-27/
LOCATION:Eichhof Café\, Im Seesengrund 16\, Ober-Ramstadt\, 64372\, Germany
CATEGORIES:Events,Gastronomie
ATTACH;FMTTYPE=image/jpeg:https://der-eichhof.de/wp-content/uploads/2025/09/Contentbilder-Apfelsaft-Kelterfest.jpg
END:VEVENT
END:VCALENDAR