BEGIN:VCALENDAR
VERSION:2.0
PRODID:-//Der Eichhof - ECPv6.15.20//NONSGML v1.0//EN
CALSCALE:GREGORIAN
METHOD:PUBLISH
X-ORIGINAL-URL:https://der-eichhof.de
X-WR-CALDESC:Veranstaltungen für Der Eichhof
REFRESH-INTERVAL;VALUE=DURATION:PT1H
X-Robots-Tag:noindex
X-PUBLISHED-TTL:PT1H
BEGIN:VTIMEZONE
TZID:Europe/Berlin
BEGIN:DAYLIGHT
TZOFFSETFROM:+0100
TZOFFSETTO:+0200
TZNAME:CEST
DTSTART:20250330T010000
END:DAYLIGHT
BEGIN:STANDARD
TZOFFSETFROM:+0200
TZOFFSETTO:+0100
TZNAME:CET
DTSTART:20251026T010000
END:STANDARD
BEGIN:DAYLIGHT
TZOFFSETFROM:+0100
TZOFFSETTO:+0200
TZNAME:CEST
DTSTART:20260329T010000
END:DAYLIGHT
BEGIN:STANDARD
TZOFFSETFROM:+0200
TZOFFSETTO:+0100
TZNAME:CET
DTSTART:20261025T010000
END:STANDARD
BEGIN:DAYLIGHT
TZOFFSETFROM:+0100
TZOFFSETTO:+0200
TZNAME:CEST
DTSTART:20270328T010000
END:DAYLIGHT
BEGIN:STANDARD
TZOFFSETFROM:+0200
TZOFFSETTO:+0100
TZNAME:CET
DTSTART:20271031T010000
END:STANDARD
END:VTIMEZONE
BEGIN:VEVENT
DTSTART;VALUE=DATE:20260312
DTEND;VALUE=DATE:20260313
DTSTAMP:20260424T000234
CREATED:20260212T072746Z
LAST-MODIFIED:20260212T072746Z
UID:6305-1773273600-1773359999@der-eichhof.de
SUMMARY:Verkaufstermin Duroc Schweinefleisch
DESCRIPTION:Am 12. März 2026 bieten wir Ihnen unser leckeres Duroc-Schweinefleisch an. Egal ob Braten\, Gulasch\, Würste oder Steaks: Wir bieten Ihnen viele verschiedene Teile und Zuschnitte an – wahlweise auch mariniert. \nAlle Teile sind vakuumiert und lassen sich problemlos einfrieren. \nVorbestellungen sind bis zum 6.03.2026 möglich. Schreiben Sie einfach eine E-Mail an silvia.seibert-christ@daw.de. \nWir freuen uns auf  Ihren Besuch im Hofladen! \n 
URL:https://der-eichhof.de/event/duroc-schweinefleisch-verkauf-2026-03-12/
LOCATION:Eichhof Hofladen\, Im Seesengrund 16\, Ober-Ramstadt\, 64372\, Germany
CATEGORIES:Fleisch-Verkauf
ATTACH;FMTTYPE=image/png:https://der-eichhof.de/wp-content/uploads/2022/11/duroc-4-3.png
END:VEVENT
BEGIN:VEVENT
DTSTART;TZID=Europe/Berlin:20260312T130000
DTEND;TZID=Europe/Berlin:20260312T180000
DTSTAMP:20260424T000234
CREATED:20260114T075410Z
LAST-MODIFIED:20260114T075410Z
UID:6235-1773320400-1773338400@der-eichhof.de
SUMMARY:Eichhof Café geöffnet
DESCRIPTION:Kaffee und wechselnde Kuchen\n\n\nJeden Donnerstag von 13:00 – 18:00 Uhr\nverwöhnen wir Sie mit Kaffee- und Teespezialitäten sowie einem wöchentlich wechselnden Kuchenangebot.\n 
URL:https://der-eichhof.de/event/eichhof-cafe-geoeffnet-2026-03-12/
LOCATION:Eichhof Café\, Im Seesengrund 16\, Ober-Ramstadt\, 64372\, Germany
CATEGORIES:Gastronomie
ATTACH;FMTTYPE=image/jpeg:https://der-eichhof.de/wp-content/uploads/2019/07/content-kuchen.jpg
END:VEVENT
END:VCALENDAR