BEGIN:VCALENDAR
VERSION:2.0
PRODID:-//Der Eichhof - ECPv6.15.20//NONSGML v1.0//EN
CALSCALE:GREGORIAN
METHOD:PUBLISH
X-WR-CALNAME:Der Eichhof
X-ORIGINAL-URL:https://der-eichhof.de
X-WR-CALDESC:Veranstaltungen für Der Eichhof
REFRESH-INTERVAL;VALUE=DURATION:PT1H
X-Robots-Tag:noindex
X-PUBLISHED-TTL:PT1H
BEGIN:VTIMEZONE
TZID:Europe/Berlin
BEGIN:DAYLIGHT
TZOFFSETFROM:+0100
TZOFFSETTO:+0200
TZNAME:CEST
DTSTART:20250330T010000
END:DAYLIGHT
BEGIN:STANDARD
TZOFFSETFROM:+0200
TZOFFSETTO:+0100
TZNAME:CET
DTSTART:20251026T010000
END:STANDARD
BEGIN:DAYLIGHT
TZOFFSETFROM:+0100
TZOFFSETTO:+0200
TZNAME:CEST
DTSTART:20260329T010000
END:DAYLIGHT
BEGIN:STANDARD
TZOFFSETFROM:+0200
TZOFFSETTO:+0100
TZNAME:CET
DTSTART:20261025T010000
END:STANDARD
BEGIN:DAYLIGHT
TZOFFSETFROM:+0100
TZOFFSETTO:+0200
TZNAME:CEST
DTSTART:20270328T010000
END:DAYLIGHT
BEGIN:STANDARD
TZOFFSETFROM:+0200
TZOFFSETTO:+0100
TZNAME:CET
DTSTART:20271031T010000
END:STANDARD
END:VTIMEZONE
BEGIN:VEVENT
DTSTART;TZID=Europe/Berlin:20260310T120000
DTEND;TZID=Europe/Berlin:20260310T140000
DTSTAMP:20260423T165818
CREATED:20260304T133106Z
LAST-MODIFIED:20260304T133106Z
UID:6417-1773144000-1773151200@der-eichhof.de
SUMMARY:Mittags-Angebot: Eichhof-Schinken-Nudeln mit Käse-/Sahnesoße
DESCRIPTION:Am Dienstag gibt es wieder unseren beliebten Eichhof-Mittagstisch! Frau Hohmann kocht eine leckere Nudelpfanne aus besten Eichhof-Nudeln mit Käse-/Sahnesauce (auf Wunsch mit oder ohne Schinken). \n\n\nWir begrüßen Sie in unserem gemütlichen Event-Raum – oder Sie nehmen Ihr Essen einfach als To-Go-Gericht mit nach Hause.\n\n\n \n\n\nDen Mittagstisch gibt es wie immer von 12-14 Uhr.\nPreis pro Portion: 9\,50 €\n\nWir freuen uns über Voranmeldungen an: silvia.seibert-christ@daw.de
URL:https://der-eichhof.de/event/mittags-angebot-eichhofnudeln-mit-oder-ohne-schinken-2026-03-10/
LOCATION:Eichhof Hofladen\, Im Seesengrund 16\, Ober-Ramstadt\, 64372\, Germany
CATEGORIES:Gastronomie
ATTACH;FMTTYPE=image/jpeg:https://der-eichhof.de/wp-content/uploads/2023/08/nudelpfanne-kaesesosse-speck-beitragsbild.jpg
END:VEVENT
END:VCALENDAR