BEGIN:VCALENDAR
VERSION:2.0
PRODID:-//Der Eichhof - ECPv6.15.20//NONSGML v1.0//EN
CALSCALE:GREGORIAN
METHOD:PUBLISH
X-ORIGINAL-URL:https://der-eichhof.de
X-WR-CALDESC:Veranstaltungen für Der Eichhof
REFRESH-INTERVAL;VALUE=DURATION:PT1H
X-Robots-Tag:noindex
X-PUBLISHED-TTL:PT1H
BEGIN:VTIMEZONE
TZID:Europe/Berlin
BEGIN:DAYLIGHT
TZOFFSETFROM:+0100
TZOFFSETTO:+0200
TZNAME:CEST
DTSTART:20250330T010000
END:DAYLIGHT
BEGIN:STANDARD
TZOFFSETFROM:+0200
TZOFFSETTO:+0100
TZNAME:CET
DTSTART:20251026T010000
END:STANDARD
BEGIN:DAYLIGHT
TZOFFSETFROM:+0100
TZOFFSETTO:+0200
TZNAME:CEST
DTSTART:20260329T010000
END:DAYLIGHT
BEGIN:STANDARD
TZOFFSETFROM:+0200
TZOFFSETTO:+0100
TZNAME:CET
DTSTART:20261025T010000
END:STANDARD
BEGIN:DAYLIGHT
TZOFFSETFROM:+0100
TZOFFSETTO:+0200
TZNAME:CEST
DTSTART:20270328T010000
END:DAYLIGHT
BEGIN:STANDARD
TZOFFSETFROM:+0200
TZOFFSETTO:+0100
TZNAME:CET
DTSTART:20271031T010000
END:STANDARD
END:VTIMEZONE
BEGIN:VEVENT
DTSTART;VALUE=DATE:20260129
DTEND;VALUE=DATE:20260130
DTSTAMP:20260425T213522
CREATED:20251202T073110Z
LAST-MODIFIED:20251202T073110Z
UID:6104-1769644800-1769731199@der-eichhof.de
SUMMARY:Verkaufstermin Duroc Schweinefleisch
DESCRIPTION:Am 29. Januar 2026 bieten wir Ihnen unser leckeres Duroc-Schweinefleisch an. Egal ob Braten\, Gulasch\, Würste oder Steaks: Wir bieten Ihnen viele verschiedene Teile und Zuschnitte an – wahlweise auch mariniert. \nAlle Teile sind vakuumiert und lassen sich problemlos einfrieren. \nVorbestellungen sind bis zum 23.01.2026 möglich. Schreiben Sie einfach eine E-Mail an silvia.seibert-christ@daw.de. \nWir freuen uns auf  Ihren Besuch im Hofladen! \n 
URL:https://der-eichhof.de/event/duroc-schweinefleisch-verkauf-2026-01-29/
LOCATION:Eichhof Hofladen\, Im Seesengrund 16\, Ober-Ramstadt\, 64372\, Germany
CATEGORIES:Fleisch-Verkauf
ATTACH;FMTTYPE=image/png:https://der-eichhof.de/wp-content/uploads/2022/11/duroc-4-3.png
END:VEVENT
BEGIN:VEVENT
DTSTART;VALUE=DATE:20260129
DTEND;VALUE=DATE:20260130
DTSTAMP:20260425T213522
CREATED:20260119T072207Z
LAST-MODIFIED:20260119T072207Z
UID:6240-1769644800-1769731199@der-eichhof.de
SUMMARY:Verkaufstermin Eichhof-Suppenhuhn
DESCRIPTION:Am Donnerstag\, den 29. Januar\, gibt es wieder frische Suppenhühner aus eigener Aufzucht bei uns im Hofladen. Unsere Hühner haben ein langes\, artgerechtes Leben auf dem Eichhof geführt\, mit viel Auslauf\, frischer Luft und bestem hofeigenem Futter. Perfekt für eine kräftige Hühnersuppe oder feines Frikassee! \nUnser Preis: 12\,90 €/kg \nAchtung: Die Hühner gibt es nur auf Vorbestellung. Schreiben Sie eine E-Mail an: silvia.seibert-christ@daw.de \nWir freuen uns über jede Bestellung und natürlich über Ihren Einkauf im Hofladen!
URL:https://der-eichhof.de/event/verkaufstermin-eichhof-suppenhuhn-2026-01-29/
LOCATION:Eichhof Hofladen\, Im Seesengrund 16\, Ober-Ramstadt\, 64372\, Germany
ATTACH;FMTTYPE=image/jpeg:https://der-eichhof.de/wp-content/uploads/2017/04/huehner_01.jpg
END:VEVENT
BEGIN:VEVENT
DTSTART;TZID=Europe/Berlin:20260129T130000
DTEND;TZID=Europe/Berlin:20260129T180000
DTSTAMP:20260425T213522
CREATED:20260114T074441Z
LAST-MODIFIED:20260114T074441Z
UID:6223-1769691600-1769709600@der-eichhof.de
SUMMARY:Eichhof Café geöffnet
DESCRIPTION:Kaffee und wechselnde Kuchen\n\n\nJeden Donnerstag von 13:00 – 18:00 Uhr\nverwöhnen wir Sie mit Kaffee- und Teespezialitäten sowie einem wöchentlich wechselnden Kuchenangebot.\n 
URL:https://der-eichhof.de/event/eichhof-cafe-geoeffnet-2026-01-29/
LOCATION:Eichhof Café\, Im Seesengrund 16\, Ober-Ramstadt\, 64372\, Germany
CATEGORIES:Gastronomie
ATTACH;FMTTYPE=image/jpeg:https://der-eichhof.de/wp-content/uploads/2019/07/content-kuchen.jpg
END:VEVENT
END:VCALENDAR