BEGIN:VCALENDAR
VERSION:2.0
PRODID:-//Der Eichhof - ECPv6.15.20//NONSGML v1.0//EN
CALSCALE:GREGORIAN
METHOD:PUBLISH
X-ORIGINAL-URL:https://der-eichhof.de
X-WR-CALDESC:Veranstaltungen für Der Eichhof
REFRESH-INTERVAL;VALUE=DURATION:PT1H
X-Robots-Tag:noindex
X-PUBLISHED-TTL:PT1H
BEGIN:VTIMEZONE
TZID:Europe/Berlin
BEGIN:DAYLIGHT
TZOFFSETFROM:+0100
TZOFFSETTO:+0200
TZNAME:CEST
DTSTART:20250330T010000
END:DAYLIGHT
BEGIN:STANDARD
TZOFFSETFROM:+0200
TZOFFSETTO:+0100
TZNAME:CET
DTSTART:20251026T010000
END:STANDARD
BEGIN:DAYLIGHT
TZOFFSETFROM:+0100
TZOFFSETTO:+0200
TZNAME:CEST
DTSTART:20260329T010000
END:DAYLIGHT
BEGIN:STANDARD
TZOFFSETFROM:+0200
TZOFFSETTO:+0100
TZNAME:CET
DTSTART:20261025T010000
END:STANDARD
BEGIN:DAYLIGHT
TZOFFSETFROM:+0100
TZOFFSETTO:+0200
TZNAME:CEST
DTSTART:20270328T010000
END:DAYLIGHT
BEGIN:STANDARD
TZOFFSETFROM:+0200
TZOFFSETTO:+0100
TZNAME:CET
DTSTART:20271031T010000
END:STANDARD
END:VTIMEZONE
BEGIN:VEVENT
DTSTART;TZID=Europe/Berlin:20260127T120000
DTEND;TZID=Europe/Berlin:20260127T143000
DTSTAMP:20260426T011601
CREATED:20260114T071725Z
LAST-MODIFIED:20260121T071544Z
UID:6208-1769515200-1769524200@der-eichhof.de
SUMMARY:Eichhof-Schmankerl: Kaiserschmarrn mit Apfelkompott
DESCRIPTION:Am 27. Januar dürfen wir Sie mit einem besonderen Genuss verwöhnen: Freuen Sie sich auf unseren beliebten Kaiserschmarrn\, zubereitet aus den besten Eichhof-Eiern. Dazu servieren wir Ihnen feines Apfelkompott\, ein echter Leckerbissen! \nUnser Preis: 9\,50€ pro Portion \n\n\nWir begrüßen Sie in unserem gemütlichen Event-Raum – oder Sie nehmen Ihr Essen einfach als To-Go-Gericht mit nach Hause.\n\n\n\nWir bitten um Reservierung! Schreiben Sie einfach eine Mail an silvia.seibert-christ@daw.de.
URL:https://der-eichhof.de/event/mittags-angebot-kaiserschmarrn-mit-apfelkompott-2026-01-27/
LOCATION:Eichhof Hofladen\, Im Seesengrund 16\, Ober-Ramstadt\, 64372\, Germany
CATEGORIES:Gastronomie
ATTACH;FMTTYPE=image/png:https://der-eichhof.de/wp-content/uploads/2023/06/Contentbilder-kaiserschmarrn.png
END:VEVENT
END:VCALENDAR